BEGIN:VCALENDAR
VERSION:2.0
PRODID:-//Clinton County Agricultural Society - ECPv6.15.20//NONSGML v1.0//EN
CALSCALE:GREGORIAN
METHOD:PUBLISH
X-ORIGINAL-URL:https://clintoncountyfairgrounds.com
X-WR-CALDESC:Events for Clinton County Agricultural Society
REFRESH-INTERVAL;VALUE=DURATION:PT1H
X-Robots-Tag:noindex
X-PUBLISHED-TTL:PT1H
BEGIN:VTIMEZONE
TZID:UTC
BEGIN:STANDARD
TZOFFSETFROM:+0000
TZOFFSETTO:+0000
TZNAME:UTC
DTSTART:20240101T000000
END:STANDARD
END:VTIMEZONE
BEGIN:VEVENT
DTSTART;TZID=UTC:20250705T110000
DTEND;TZID=UTC:20250712T230000
DTSTAMP:20260419T225403
CREATED:20250523T132842Z
LAST-MODIFIED:20250523T132921Z
UID:663-1751713200-1752361200@clintoncountyfairgrounds.com
SUMMARY:Clinton County Fair
DESCRIPTION:
URL:https://clintoncountyfairgrounds.com/calendar/clinton-county-fair-2/
END:VEVENT
END:VCALENDAR