BEGIN:VCALENDAR
VERSION:2.0
PRODID:-//Clinton County Agricultural Society - ECPv6.15.20//NONSGML v1.0//EN
CALSCALE:GREGORIAN
METHOD:PUBLISH
X-WR-CALNAME:Clinton County Agricultural Society
X-ORIGINAL-URL:https://clintoncountyfairgrounds.com
X-WR-CALDESC:Events for Clinton County Agricultural Society
REFRESH-INTERVAL;VALUE=DURATION:PT1H
X-Robots-Tag:noindex
X-PUBLISHED-TTL:PT1H
BEGIN:VTIMEZONE
TZID:UTC
BEGIN:STANDARD
TZOFFSETFROM:+0000
TZOFFSETTO:+0000
TZNAME:UTC
DTSTART:20240101T000000
END:STANDARD
END:VTIMEZONE
BEGIN:VEVENT
DTSTART;TZID=UTC:20251021T160000
DTEND;TZID=UTC:20251021T200000
DTSTAMP:20260419T173816
CREATED:20250815T170351Z
LAST-MODIFIED:20250815T170407Z
UID:924-1761062400-1761076800@clintoncountyfairgrounds.com
SUMMARY:Annual Election of Board of Directors for the Clinton County Agricultural Society
DESCRIPTION:Annual Election of Board of Directors by ballot.  All legal residents of Clinton County holding a valid membership ticket in the Clinton County Agricultural Society at the close of the annual fair may vote.
URL:https://clintoncountyfairgrounds.com/calendar/annual-election-of-board-of-directors-for-the-clinton-county-agricultural-society/
END:VEVENT
END:VCALENDAR