BEGIN:VCALENDAR
VERSION:2.0
PRODID:-//Clinton County Agricultural Society - ECPv6.15.20//NONSGML v1.0//EN
CALSCALE:GREGORIAN
METHOD:PUBLISH
X-WR-CALNAME:Clinton County Agricultural Society
X-ORIGINAL-URL:https://clintoncountyfairgrounds.com
X-WR-CALDESC:Events for Clinton County Agricultural Society
REFRESH-INTERVAL;VALUE=DURATION:PT1H
X-Robots-Tag:noindex
X-PUBLISHED-TTL:PT1H
BEGIN:VTIMEZONE
TZID:UTC
BEGIN:STANDARD
TZOFFSETFROM:+0000
TZOFFSETTO:+0000
TZNAME:UTC
DTSTART:20250101T000000
END:STANDARD
END:VTIMEZONE
BEGIN:VEVENT
DTSTART;TZID=UTC:20260706T190000
DTEND;TZID=UTC:20260706T210000
DTSTAMP:20260419T154829
CREATED:20251222T164006Z
LAST-MODIFIED:20251222T164006Z
UID:1023-1783364400-1783371600@clintoncountyfairgrounds.com
SUMMARY:Board of Directors Meeting
DESCRIPTION:
URL:https://clintoncountyfairgrounds.com/calendar/board-of-directors-meeting-10/
END:VEVENT
END:VCALENDAR