BEGIN:VCALENDAR
VERSION:2.0
PRODID:-//Clinton County Agricultural Society - ECPv6.15.20//NONSGML v1.0//EN
CALSCALE:GREGORIAN
METHOD:PUBLISH
X-WR-CALNAME:Clinton County Agricultural Society
X-ORIGINAL-URL:https://clintoncountyfairgrounds.com
X-WR-CALDESC:Events for Clinton County Agricultural Society
REFRESH-INTERVAL;VALUE=DURATION:PT1H
X-Robots-Tag:noindex
X-PUBLISHED-TTL:PT1H
BEGIN:VTIMEZONE
TZID:America/Halifax
BEGIN:DAYLIGHT
TZOFFSETFROM:-0400
TZOFFSETTO:-0300
TZNAME:ADT
DTSTART:20220313T060000
END:DAYLIGHT
BEGIN:STANDARD
TZOFFSETFROM:-0300
TZOFFSETTO:-0400
TZNAME:AST
DTSTART:20221106T050000
END:STANDARD
BEGIN:DAYLIGHT
TZOFFSETFROM:-0400
TZOFFSETTO:-0300
TZNAME:ADT
DTSTART:20230312T060000
END:DAYLIGHT
BEGIN:STANDARD
TZOFFSETFROM:-0300
TZOFFSETTO:-0400
TZNAME:AST
DTSTART:20231105T050000
END:STANDARD
BEGIN:DAYLIGHT
TZOFFSETFROM:-0400
TZOFFSETTO:-0300
TZNAME:ADT
DTSTART:20240310T060000
END:DAYLIGHT
BEGIN:STANDARD
TZOFFSETFROM:-0300
TZOFFSETTO:-0400
TZNAME:AST
DTSTART:20241103T050000
END:STANDARD
END:VTIMEZONE
BEGIN:VTIMEZONE
TZID:UTC
BEGIN:STANDARD
TZOFFSETFROM:+0000
TZOFFSETTO:+0000
TZNAME:UTC
DTSTART:20220101T000000
END:STANDARD
END:VTIMEZONE
BEGIN:VEVENT
DTSTART;TZID=America/Halifax:20230712T190000
DTEND;TZID=America/Halifax:20230712T210000
DTSTAMP:20260419T174738
CREATED:20230602T203843Z
LAST-MODIFIED:20230602T203843Z
UID:342-1689188400-1689195600@clintoncountyfairgrounds.com
SUMMARY:Diamond J Rodeo
DESCRIPTION:
URL:https://clintoncountyfairgrounds.com/calendar/diamond-j-rodeo/
CATEGORIES:Infield Attraction
END:VEVENT
BEGIN:VEVENT
DTSTART;TZID=America/Halifax:20230712T190000
DTEND;TZID=America/Halifax:20230712T200000
DTSTAMP:20260419T174738
CREATED:20230602T203910Z
LAST-MODIFIED:20230602T203910Z
UID:344-1689188400-1689192000@clintoncountyfairgrounds.com
SUMMARY:The Avalons
DESCRIPTION:
URL:https://clintoncountyfairgrounds.com/calendar/the-avalons/
CATEGORIES:Sound Stage Attraction
END:VEVENT
BEGIN:VEVENT
DTSTART;TZID=America/Halifax:20230711T190000
DTEND;TZID=America/Halifax:20230711T200000
DTSTAMP:20260419T174738
CREATED:20230602T203814Z
LAST-MODIFIED:20230602T203814Z
UID:340-1689102000-1689105600@clintoncountyfairgrounds.com
SUMMARY:Tim Litvin & The Nature Boy Band
DESCRIPTION:
URL:https://clintoncountyfairgrounds.com/calendar/tim-litvin-the-nature-boy-band/
CATEGORIES:Sound Stage Attraction
END:VEVENT
BEGIN:VEVENT
DTSTART;TZID=America/Halifax:20230711T170000
DTEND;TZID=America/Halifax:20230711T190000
DTSTAMP:20260419T174738
CREATED:20230602T203711Z
LAST-MODIFIED:20230606T114955Z
UID:336-1689094800-1689102000@clintoncountyfairgrounds.com
SUMMARY:OHHA Harness Racing
DESCRIPTION:
URL:https://clintoncountyfairgrounds.com/calendar/ohha-harness-racing-2/
CATEGORIES:Infield Attraction
END:VEVENT
BEGIN:VEVENT
DTSTART;TZID=America/Halifax:20230710T180000
DTEND;TZID=America/Halifax:20230710T190000
DTSTAMP:20260419T174738
CREATED:20230602T203740Z
LAST-MODIFIED:20230602T203740Z
UID:338-1689012000-1689015600@clintoncountyfairgrounds.com
SUMMARY:Ashley Martin
DESCRIPTION:
URL:https://clintoncountyfairgrounds.com/calendar/ashley-martin/
CATEGORIES:Sound Stage Attraction
END:VEVENT
BEGIN:VEVENT
DTSTART;TZID=America/Halifax:20230710T170000
DTEND;TZID=America/Halifax:20230710T190000
DTSTAMP:20260419T174738
CREATED:20230602T203636Z
LAST-MODIFIED:20230606T122012Z
UID:334-1689008400-1689015600@clintoncountyfairgrounds.com
SUMMARY:OHHA Harness Racing
DESCRIPTION:
URL:https://clintoncountyfairgrounds.com/calendar/ohha-harness-racing/
CATEGORIES:Infield Attraction
END:VEVENT
BEGIN:VEVENT
DTSTART;TZID=America/Halifax:20230709T180000
DTEND;TZID=America/Halifax:20230709T190000
DTSTAMP:20260419T174738
CREATED:20230602T203557Z
LAST-MODIFIED:20230602T203557Z
UID:332-1688925600-1688929200@clintoncountyfairgrounds.com
SUMMARY:Bible Baptist Church Gospel Night
DESCRIPTION:
URL:https://clintoncountyfairgrounds.com/calendar/bible-baptist-church-gospel-night/
CATEGORIES:Sound Stage Attraction
END:VEVENT
BEGIN:VEVENT
DTSTART;TZID=America/Halifax:20230709T140000
DTEND;TZID=America/Halifax:20230709T170000
DTSTAMP:20260419T174738
CREATED:20230602T203516Z
LAST-MODIFIED:20230602T203516Z
UID:330-1688911200-1688922000@clintoncountyfairgrounds.com
SUMMARY:KOI Drag Racing
DESCRIPTION:
URL:https://clintoncountyfairgrounds.com/calendar/koi-drag-racing/
CATEGORIES:Infield Attraction
END:VEVENT
BEGIN:VEVENT
DTSTART;TZID=America/Halifax:20230708T193000
DTEND;TZID=America/Halifax:20230708T203000
DTSTAMP:20260419T174738
CREATED:20230602T203405Z
LAST-MODIFIED:20230602T203405Z
UID:328-1688844600-1688848200@clintoncountyfairgrounds.com
SUMMARY:Bent Productions LLC Demolition Derby
DESCRIPTION:
URL:https://clintoncountyfairgrounds.com/calendar/bent-productions-llc-demolition-derby/
CATEGORIES:Infield Attraction
END:VEVENT
BEGIN:VEVENT
DTSTART;TZID=America/Halifax:20230708T190000
DTEND;TZID=America/Halifax:20230708T200000
DTSTAMP:20260419T174738
CREATED:20230602T203157Z
LAST-MODIFIED:20230602T203157Z
UID:326-1688842800-1688846400@clintoncountyfairgrounds.com
SUMMARY:Right Turn Clyde
DESCRIPTION:
URL:https://clintoncountyfairgrounds.com/calendar/right-turn-clyde/
CATEGORIES:Sound Stage Attraction
END:VEVENT
BEGIN:VEVENT
DTSTART;TZID=UTC:20230708T080000
DTEND;TZID=UTC:20230715T170000
DTSTAMP:20260419T174738
CREATED:20230509T183207Z
LAST-MODIFIED:20230509T183207Z
UID:278-1688803200-1689440400@clintoncountyfairgrounds.com
SUMMARY:Clinton County Fair
DESCRIPTION:
URL:https://clintoncountyfairgrounds.com/calendar/clinton-county-fair/
END:VEVENT
BEGIN:VEVENT
DTSTART;TZID=UTC:20230703T190000
DTEND;TZID=UTC:20230703T200000
DTSTAMP:20260419T174738
CREATED:20230509T183006Z
LAST-MODIFIED:20230509T183006Z
UID:272-1688410800-1688414400@clintoncountyfairgrounds.com
SUMMARY:Board Meeting
DESCRIPTION:
URL:https://clintoncountyfairgrounds.com/calendar/board-meeting-4/
END:VEVENT
BEGIN:VEVENT
DTSTART;TZID=UTC:20230605T190000
DTEND;TZID=UTC:20230605T200000
DTSTAMP:20260419T174738
CREATED:20230509T182946Z
LAST-MODIFIED:20230509T182946Z
UID:270-1685991600-1685995200@clintoncountyfairgrounds.com
SUMMARY:Board Meeting
DESCRIPTION:
URL:https://clintoncountyfairgrounds.com/calendar/board-meeting-3/
END:VEVENT
BEGIN:VEVENT
DTSTART;TZID=UTC:20230520T120000
DTEND;TZID=UTC:20230520T130000
DTSTAMP:20260419T174738
CREATED:20230509T183812Z
LAST-MODIFIED:20230509T183812Z
UID:280-1684584000-1684587600@clintoncountyfairgrounds.com
SUMMARY:Campsite Auction
DESCRIPTION:7 Sites Are Available For Auction. \nThey will be posted and marked the morning of the auction. The available sites are located behind the Expo Building.
URL:https://clintoncountyfairgrounds.com/calendar/campsite-auction/
END:VEVENT
BEGIN:VEVENT
DTSTART;TZID=UTC:20230501T190000
DTEND;TZID=UTC:20230501T200000
DTSTAMP:20260419T174738
CREATED:20230509T183113Z
LAST-MODIFIED:20230509T183113Z
UID:276-1682967600-1682971200@clintoncountyfairgrounds.com
SUMMARY:Board Meeting
DESCRIPTION:
URL:https://clintoncountyfairgrounds.com/calendar/board-meeting-6/
END:VEVENT
BEGIN:VEVENT
DTSTART;TZID=UTC:20230403T070000
DTEND;TZID=UTC:20230403T200000
DTSTAMP:20260419T174738
CREATED:20230317T202702Z
LAST-MODIFIED:20230317T202702Z
UID:49-1680505200-1680552000@clintoncountyfairgrounds.com
SUMMARY:Board Meeting
DESCRIPTION:
URL:https://clintoncountyfairgrounds.com/calendar/board-meeting/
CATEGORIES:Agricultural Society
END:VEVENT
BEGIN:VEVENT
DTSTART;TZID=UTC:20230306T190000
DTEND;TZID=UTC:20230306T200000
DTSTAMP:20260419T174738
CREATED:20230317T202741Z
LAST-MODIFIED:20230317T202741Z
UID:51-1678129200-1678132800@clintoncountyfairgrounds.com
SUMMARY:Board Meeting
DESCRIPTION:
URL:https://clintoncountyfairgrounds.com/calendar/board-meeting-2/
CATEGORIES:Agricultural Society
END:VEVENT
END:VCALENDAR