BEGIN:VCALENDAR
VERSION:2.0
PRODID:-//Clinton County Agricultural Society - ECPv6.15.20//NONSGML v1.0//EN
CALSCALE:GREGORIAN
METHOD:PUBLISH
X-WR-CALNAME:Clinton County Agricultural Society
X-ORIGINAL-URL:https://clintoncountyfairgrounds.com
X-WR-CALDESC:Events for Clinton County Agricultural Society
REFRESH-INTERVAL;VALUE=DURATION:PT1H
X-Robots-Tag:noindex
X-PUBLISHED-TTL:PT1H
BEGIN:VTIMEZONE
TZID:UTC
BEGIN:STANDARD
TZOFFSETFROM:+0000
TZOFFSETTO:+0000
TZNAME:UTC
DTSTART:20240101T000000
END:STANDARD
END:VTIMEZONE
BEGIN:VEVENT
DTSTART;TZID=UTC:20250623T190000
DTEND;TZID=UTC:20250623T210000
DTSTAMP:20260419T225346
CREATED:20250604T180742Z
LAST-MODIFIED:20250604T181910Z
UID:786-1750705200-1750712400@clintoncountyfairgrounds.com
SUMMARY:Special Clinton County Agricultural Society Board Meeting
DESCRIPTION:Special Board of Directors Meeting regarding readiness for the 2025 Clinton County Fair
URL:https://clintoncountyfairgrounds.com/calendar/special-clinton-county-agricultural-society-board-meeting/
LOCATION:Clinton County Fairgrounds
END:VEVENT
END:VCALENDAR